BEGIN:VCALENDAR
VERSION:2.0
PRODID:-//Tukios.com/
BEGIN:VEVENT
UID:d2ec6870-e532-471e-a97c-f9ecf4ad0bae@www.spannfuneralhome.com
DTSTAMP:20260420T205046Z
DTSTART:20260423T160000Z
DTEND:20260423T180000Z
SUMMARY:Visitation
DESCRIPTION:
URL:https://www.spannfuneralhome.com/obituaries/betty-williams
LOCATION: 1961 Hwy 48 North  Dickson TN 37055
GEO:36.0932661;-87.3769634
END:VEVENT
END:VCALENDAR