BEGIN:VCALENDAR
VERSION:2.0
PRODID:-//Tukios.com/
BEGIN:VEVENT
UID:443d0c0e-5b5d-4345-9fbe-78310f6798d6@www.spannfuneralhome.com
DTSTAMP:20260420T204725Z
DTSTART:20260422T210000Z
DTEND:20260423T010000Z
SUMMARY:Visitation
DESCRIPTION:
URL:https://www.spannfuneralhome.com/obituaries/betty-williams
LOCATION:Spann Funeral Home 1961 Hwy 48 North  Dickson TN 37055
GEO:36.0932661;-87.3769634
END:VEVENT
END:VCALENDAR