BEGIN:VCALENDAR
VERSION:2.0
PRODID:-//Tukios.com/
BEGIN:VEVENT
UID:e4016979-5db1-45a2-94f4-fc99b90cae4f@www.spannfuneralhome.com
DTSTAMP:20260422T200846Z
DTSTART:20260423T150000Z
DTEND:20260423T200000Z
SUMMARY:Visitation
DESCRIPTION:
URL:https://www.spannfuneralhome.com/obituaries/allen-batey
LOCATION:Spann Funeral Home 1961 Hwy 48 North  Dickson TN 37055
GEO:36.0932661;-87.3769634
END:VEVENT
END:VCALENDAR